BEGIN:VCALENDAR
VERSION:2.0
PRODID:icalendar-ruby
CALSCALE:GREGORIAN
METHOD:PUBLISH
BEGIN:VEVENT
DTSTAMP:20260426T025311Z
UID:107c11ec-4c5b-4a8c-b47a-2848e067233d
DTSTART;VALUE=DATE:20110909
DTEND;VALUE=DATE:20110909
DESCRIPTION:Wolfe Creek BMX
LOCATION:22843 Creek Road  Chatham ON  CAN
SUMMARY:Standard Double
URL:/site/bmx_races/101361
END:VEVENT
END:VCALENDAR
