BEGIN:VCALENDAR
VERSION:2.0
PRODID:icalendar-ruby
CALSCALE:GREGORIAN
METHOD:PUBLISH
BEGIN:VEVENT
DTSTAMP:20260422T081513Z
UID:d77c8870-01e4-4340-8327-8749628dd7f6
DTSTART;VALUE=DATE:20111214
DTEND;VALUE=DATE:20111214
DESCRIPTION:Oak Creek BMX
LOCATION:648 Riverside Ave  Roseville CA 95678 USA
SUMMARY:Standard Single
URL:/site/bmx_races/101684
END:VEVENT
END:VCALENDAR
