BEGIN:VCALENDAR
VERSION:2.0
PRODID:icalendar-ruby
CALSCALE:GREGORIAN
METHOD:PUBLISH
BEGIN:VEVENT
DTSTAMP:20260422T081513Z
UID:d602356b-1e87-4300-a13b-fa7676302ef5
DTSTART;VALUE=DATE:20111215
DTEND;VALUE=DATE:20111215
DESCRIPTION:Oak Creek BMX
LOCATION:648 Riverside Ave  Roseville CA 95678 USA
SUMMARY:Standard Single
URL:/site/bmx_races/102550
END:VEVENT
END:VCALENDAR
