BEGIN:VCALENDAR
VERSION:2.0
PRODID:icalendar-ruby
CALSCALE:GREGORIAN
METHOD:PUBLISH
BEGIN:VEVENT
DTSTAMP:20260422T145005Z
UID:1e060252-427f-4bbb-b995-65e7082effc7
DTSTART;VALUE=DATE:20110820
DTEND;VALUE=DATE:20110820
DESCRIPTION:Oak Creek BMX
LOCATION:648 Riverside Ave  Roseville CA 95678 USA
SUMMARY:Standard Double
URL:/site/bmx_races/102597
END:VEVENT
END:VCALENDAR
