BEGIN:VCALENDAR
VERSION:2.0
PRODID:icalendar-ruby
CALSCALE:GREGORIAN
METHOD:PUBLISH
BEGIN:VEVENT
DTSTAMP:20260425T202254Z
UID:89da8201-6c0d-4987-95f5-2d8840aebb96
DTSTART;VALUE=DATE:20111013
DTEND;VALUE=DATE:20111013
DESCRIPTION:Sand Springs BMX
LOCATION:2600 S River City Park Rd  Sand Springs OK 74063 USA
SUMMARY:Standard Single
URL:/site/bmx_races/102797
END:VEVENT
END:VCALENDAR
