BEGIN:VCALENDAR
VERSION:2.0
PRODID:icalendar-ruby
CALSCALE:GREGORIAN
METHOD:PUBLISH
BEGIN:VEVENT
DTSTAMP:20260423T032840Z
UID:5856b54d-58eb-44e9-9d5f-85ad03ce9030
DTSTART;VALUE=DATE:20110902
DTEND;VALUE=DATE:20110902
DESCRIPTION:Omaha BMX
LOCATION:11111 W Maple Rd  Omaha NE 68164 USA
SUMMARY:Standard Single
URL:/site/bmx_races/103056
END:VEVENT
END:VCALENDAR
