BEGIN:VCALENDAR
VERSION:2.0
PRODID:icalendar-ruby
CALSCALE:GREGORIAN
METHOD:PUBLISH
BEGIN:VEVENT
DTSTAMP:20260422T180846Z
UID:41ef30a3-1041-4ae5-9d94-ef445168e5d8
DTSTART;VALUE=DATE:20110619
DTEND;VALUE=DATE:20110619
DESCRIPTION:Oak Creek BMX
LOCATION:648 Riverside Ave  Roseville CA 95678 USA
SUMMARY:Standard Single
URL:/site/bmx_races/103219
END:VEVENT
END:VCALENDAR
