BEGIN:VCALENDAR
VERSION:2.0
PRODID:icalendar-ruby
CALSCALE:GREGORIAN
METHOD:PUBLISH
BEGIN:VEVENT
DTSTAMP:20260425T232847Z
UID:fd89b617-8784-4f88-8860-05e7d0b33289
DTSTART;VALUE=DATE:20110813
DTEND;VALUE=DATE:20110813
DESCRIPTION:Sand Springs BMX
LOCATION:2600 S River City Park Rd  Sand Springs OK 74063 USA
SUMMARY:Standard Double
URL:/site/bmx_races/103414
END:VEVENT
END:VCALENDAR
