BEGIN:VCALENDAR
VERSION:2.0
PRODID:icalendar-ruby
CALSCALE:GREGORIAN
METHOD:PUBLISH
BEGIN:VEVENT
DTSTAMP:20260423T070127Z
UID:eebfdfe7-c850-4da2-8de5-d6b38229e487
DTSTART;VALUE=DATE:20111120
DTEND;VALUE=DATE:20111120
DESCRIPTION:Colorado River BMX
LOCATION:2230 Highland Dr  Bullhead City AZ 86442 USA
SUMMARY:Standard Single
URL:/site/bmx_races/103468
END:VEVENT
END:VCALENDAR
