BEGIN:VCALENDAR
VERSION:2.0
PRODID:icalendar-ruby
CALSCALE:GREGORIAN
METHOD:PUBLISH
BEGIN:VEVENT
DTSTAMP:20260426T022827Z
UID:ffa35e6a-bcc8-483b-8d6f-1dde5b408d20
DTSTART;VALUE=DATE:20111109
DTEND;VALUE=DATE:20111109
DESCRIPTION:Redwood Empire BMX
LOCATION:201 Vance Ave  Samoa CA 95564 USA
SUMMARY:Standard Single
URL:/site/bmx_races/103640
END:VEVENT
END:VCALENDAR
