BEGIN:VCALENDAR
VERSION:2.0
PRODID:icalendar-ruby
CALSCALE:GREGORIAN
METHOD:PUBLISH
BEGIN:VEVENT
DTSTAMP:20260425T035552Z
UID:7a80014e-9877-471f-84e8-a94d413c924f
DTSTART;VALUE=DATE:20110907
DTEND;VALUE=DATE:20110907
DESCRIPTION:Heartland BMX
LOCATION:4801 Sw Shunga Dr  Topeka KS 66614 USA
SUMMARY:Standard Single
URL:/site/bmx_races/103950
END:VEVENT
END:VCALENDAR
