BEGIN:VCALENDAR
VERSION:2.0
PRODID:icalendar-ruby
CALSCALE:GREGORIAN
METHOD:PUBLISH
BEGIN:VEVENT
DTSTAMP:20260421T135518Z
UID:3c6cfb96-1f98-4de1-a2f7-3afd8a307a05
DTSTART;VALUE=DATE:20111113
DTEND;VALUE=DATE:20111113
DESCRIPTION:Carson City BMX
LOCATION:1555 Livermore Ln  Carson City NV 89721 USA
SUMMARY:Standard Single
URL:/site/bmx_races/103971
END:VEVENT
END:VCALENDAR
