BEGIN:VCALENDAR
VERSION:2.0
PRODID:icalendar-ruby
CALSCALE:GREGORIAN
METHOD:PUBLISH
BEGIN:VEVENT
DTSTAMP:20260424T184212Z
UID:2db02856-1589-4ff6-a693-7ca03e48dd7a
DTSTART;VALUE=DATE:20110715
DTEND;VALUE=DATE:20110715
DESCRIPTION:San Diego BMX
LOCATION:3170 Armstrong Street Behind Kearny Mesa Recreation Center San Die
 go CA 92111 USA
SUMMARY:Standard Single
URL:/site/bmx_races/104412
END:VEVENT
END:VCALENDAR
