BEGIN:VCALENDAR
VERSION:2.0
PRODID:icalendar-ruby
CALSCALE:GREGORIAN
METHOD:PUBLISH
BEGIN:VEVENT
DTSTAMP:20260425T170757Z
UID:e64f075f-7704-49f4-a20c-fb800a427f86
DTSTART;VALUE=DATE:20110811
DTEND;VALUE=DATE:20110811
DESCRIPTION:Seatac BMX
LOCATION:1855 S 136th St  Sea Tac WA 98168 USA
SUMMARY:Standard Single
URL:/site/bmx_races/104481
END:VEVENT
END:VCALENDAR
