BEGIN:VCALENDAR
VERSION:2.0
PRODID:icalendar-ruby
CALSCALE:GREGORIAN
METHOD:PUBLISH
BEGIN:VEVENT
DTSTAMP:20260423T172900Z
UID:7ec8ad89-998a-4583-8fe9-becbffb59069
DTSTART;VALUE=DATE:20110511
DTEND;VALUE=DATE:20110511
DESCRIPTION:Colorado River BMX
LOCATION:2230 Highland Dr  Bullhead City AZ 86442 USA
SUMMARY:Standard Single
URL:/site/bmx_races/104489
END:VEVENT
END:VCALENDAR
