BEGIN:VCALENDAR
VERSION:2.0
PRODID:icalendar-ruby
CALSCALE:GREGORIAN
METHOD:PUBLISH
BEGIN:VEVENT
DTSTAMP:20260423T021612Z
UID:24644c6b-6a6c-4341-8acd-726a0c8a8450
DTSTART;VALUE=DATE:20110123
DTEND;VALUE=DATE:20110123
DESCRIPTION:Oak Creek BMX
LOCATION:648 Riverside Ave  Roseville CA 95678 USA
SUMMARY:Standard Single
URL:/site/bmx_races/104736
END:VEVENT
END:VCALENDAR
