BEGIN:VCALENDAR
VERSION:2.0
PRODID:icalendar-ruby
CALSCALE:GREGORIAN
METHOD:PUBLISH
BEGIN:VEVENT
DTSTAMP:20260422T161156Z
UID:8b4905ed-a067-4d86-a209-7564e3e61e87
DTSTART;VALUE=DATE:20110816
DTEND;VALUE=DATE:20110816
DESCRIPTION:Eagle Park BMX
LOCATION:11800 N Horseshoe Bend Rd  Eagle ID 83616 USA
SUMMARY:Standard Single
URL:/site/bmx_races/104738
END:VEVENT
END:VCALENDAR
