BEGIN:VCALENDAR
VERSION:2.0
PRODID:icalendar-ruby
CALSCALE:GREGORIAN
METHOD:PUBLISH
BEGIN:VEVENT
DTSTAMP:20260422T212611Z
UID:bff46166-f142-4297-a5c5-480fd225180b
DTSTART;VALUE=DATE:20110409
DTEND;VALUE=DATE:20110409
DESCRIPTION:Oak Creek BMX
LOCATION:648 Riverside Ave  Roseville CA 95678 USA
SUMMARY:Standard Single
URL:/site/bmx_races/105240
END:VEVENT
END:VCALENDAR
