BEGIN:VCALENDAR
VERSION:2.0
PRODID:icalendar-ruby
CALSCALE:GREGORIAN
METHOD:PUBLISH
BEGIN:VEVENT
DTSTAMP:20260425T002735Z
UID:0286e1c0-84cd-4b38-aa94-5d7de775bfc5
DTSTART;VALUE=DATE:20110928
DTEND;VALUE=DATE:20110928
DESCRIPTION:Nanaimo BMX
LOCATION:2001 Labieux Road  Nanaimo BC V9T 3K7 CAN
SUMMARY:Standard Single
URL:/site/bmx_races/105250
END:VEVENT
END:VCALENDAR
