BEGIN:VCALENDAR
VERSION:2.0
PRODID:icalendar-ruby
CALSCALE:GREGORIAN
METHOD:PUBLISH
BEGIN:VEVENT
DTSTAMP:20260422T125758Z
UID:53c6f1f7-1de4-4432-915a-20416793b327
DTSTART;VALUE=DATE:20110728
DTEND;VALUE=DATE:20110728
DESCRIPTION:Southwest Wyoming Outdoor BMX
LOCATION:1795 Bridger Rd   Green River WY 82935 USA
SUMMARY:Standard Single
URL:/site/bmx_races/105332
END:VEVENT
END:VCALENDAR
