BEGIN:VCALENDAR
VERSION:2.0
PRODID:icalendar-ruby
CALSCALE:GREGORIAN
METHOD:PUBLISH
BEGIN:VEVENT
DTSTAMP:20260424T185107Z
UID:973b07ac-fa92-4e2e-b079-7298b80f40b4
DTSTART;VALUE=DATE:20110815
DTEND;VALUE=DATE:20110815
DESCRIPTION:Fastrax BMX
LOCATION:2800 S 12th St  Bismarck ND 58504 USA
SUMMARY:Standard Single
URL:/site/bmx_races/105389
END:VEVENT
END:VCALENDAR
