BEGIN:VCALENDAR
VERSION:2.0
PRODID:icalendar-ruby
CALSCALE:GREGORIAN
METHOD:PUBLISH
BEGIN:VEVENT
DTSTAMP:20260421T153144Z
UID:7a6441dd-5053-48f1-8647-bab0f73b6462
DTSTART;VALUE=DATE:20111016
DTEND;VALUE=DATE:20111016
DESCRIPTION:Carson City BMX
LOCATION:1555 Livermore Ln  Carson City NV 89721 USA
SUMMARY:Standard Single
URL:/site/bmx_races/105511
END:VEVENT
END:VCALENDAR
