BEGIN:VCALENDAR
VERSION:2.0
PRODID:icalendar-ruby
CALSCALE:GREGORIAN
METHOD:PUBLISH
BEGIN:VEVENT
DTSTAMP:20260420T082028Z
UID:0a36b9f0-38cd-4fdd-8762-0261b0620ac4
DTSTART;VALUE=DATE:20111117
DTEND;VALUE=DATE:20111117
DESCRIPTION:Steel Wheels Indoor BMX
LOCATION:709 N Hobart Rd  Hobart IN 46350 USA
SUMMARY:Standard Single
URL:/site/bmx_races/105539
END:VEVENT
END:VCALENDAR
