BEGIN:VCALENDAR
VERSION:2.0
PRODID:icalendar-ruby
CALSCALE:GREGORIAN
METHOD:PUBLISH
BEGIN:VEVENT
DTSTAMP:20260424T143537Z
UID:940078c0-5955-439c-8915-bfbe43fb33c3
DTSTART;VALUE=DATE:20111002
DTEND;VALUE=DATE:20111002
DESCRIPTION:Fastrax BMX
LOCATION:2800 S 12th St  Bismarck ND 58504 USA
SUMMARY:Standard Single
URL:/site/bmx_races/105647
END:VEVENT
END:VCALENDAR
