BEGIN:VCALENDAR
VERSION:2.0
PRODID:icalendar-ruby
CALSCALE:GREGORIAN
METHOD:PUBLISH
BEGIN:VEVENT
DTSTAMP:20260423T085600Z
UID:58b0a164-d637-4edc-9028-cbb08ce083fd
DTSTART;VALUE=DATE:20111021
DTEND;VALUE=DATE:20111021
DESCRIPTION:Colorado River BMX
LOCATION:2230 Highland Dr  Bullhead City AZ 86442 USA
SUMMARY:Standard Single
URL:/site/bmx_races/106194
END:VEVENT
END:VCALENDAR
