BEGIN:VCALENDAR
VERSION:2.0
PRODID:icalendar-ruby
CALSCALE:GREGORIAN
METHOD:PUBLISH
BEGIN:VEVENT
DTSTAMP:20260425T004830Z
UID:dede892e-63a5-4ebd-b7d2-df523d3c7f71
DTSTART;VALUE=DATE:20110330
DTEND;VALUE=DATE:20110330
DESCRIPTION:San Diego BMX
LOCATION:3170 Armstrong Street Behind Kearny Mesa Recreation Center San Die
 go CA 92111 USA
SUMMARY:Standard Single
URL:/site/bmx_races/106375
END:VEVENT
END:VCALENDAR
