BEGIN:VCALENDAR
VERSION:2.0
PRODID:icalendar-ruby
CALSCALE:GREGORIAN
METHOD:PUBLISH
BEGIN:VEVENT
DTSTAMP:20260423T172801Z
UID:3b45e50a-ac26-4a00-b161-34593f6853ba
DTSTART;VALUE=DATE:20111015
DTEND;VALUE=DATE:20111015
DESCRIPTION:Reno Battleborn BMX
LOCATION:Sun Valley Gid Community Park 115 W 6th Ave Sun Valley NV 89433 US
 A
SUMMARY:Standard Single
URL:/site/bmx_races/106533
END:VEVENT
END:VCALENDAR
