BEGIN:VCALENDAR
VERSION:2.0
PRODID:icalendar-ruby
CALSCALE:GREGORIAN
METHOD:PUBLISH
BEGIN:VEVENT
DTSTAMP:20260424T010331Z
UID:922f1285-54a2-4b20-ae84-a2adc46ce285
DTSTART;VALUE=DATE:20110507
DTEND;VALUE=DATE:20110507
DESCRIPTION:Reno Battleborn BMX
LOCATION:Sun Valley Gid Community Park 115 W 6th Ave Sun Valley NV 89433 US
 A
SUMMARY:Standard Single
URL:/site/bmx_races/106769
END:VEVENT
END:VCALENDAR
