BEGIN:VCALENDAR
VERSION:2.0
PRODID:icalendar-ruby
CALSCALE:GREGORIAN
METHOD:PUBLISH
BEGIN:VEVENT
DTSTAMP:20260423T202901Z
UID:f9cfe75c-5247-4efd-9fdf-8b92b0eb484a
DTSTART;VALUE=DATE:20110827
DTEND;VALUE=DATE:20110827
DESCRIPTION:Reno Battleborn BMX
LOCATION:Sun Valley Gid Community Park 115 W 6th Ave Sun Valley NV 89433 US
 A
SUMMARY:Standard Single
URL:/site/bmx_races/106957
END:VEVENT
END:VCALENDAR
