BEGIN:VCALENDAR
VERSION:2.0
PRODID:icalendar-ruby
CALSCALE:GREGORIAN
METHOD:PUBLISH
BEGIN:VEVENT
DTSTAMP:20260425T112343Z
UID:ea8ae059-6dc8-4ea1-a381-4927f669b26d
DTSTART;VALUE=DATE:20110713
DTEND;VALUE=DATE:20110713
DESCRIPTION:Far North BMX
LOCATION:Kiana St & 19th Ave  Fairbanks AK 99709 USA
SUMMARY:Standard Single
URL:/site/bmx_races/107243
END:VEVENT
END:VCALENDAR
