BEGIN:VCALENDAR
VERSION:2.0
PRODID:icalendar-ruby
CALSCALE:GREGORIAN
METHOD:PUBLISH
BEGIN:VEVENT
DTSTAMP:20260425T184746Z
UID:a075ba9a-1f31-4bee-98b7-669e8f3d53d5
DTSTART;VALUE=DATE:20111110
DTEND;VALUE=DATE:20111110
DESCRIPTION:Sand Springs BMX
LOCATION:2600 S River City Park Rd  Sand Springs OK 74063 USA
SUMMARY:Standard Single
URL:/site/bmx_races/107618
END:VEVENT
END:VCALENDAR
