BEGIN:VCALENDAR
VERSION:2.0
PRODID:icalendar-ruby
CALSCALE:GREGORIAN
METHOD:PUBLISH
BEGIN:VEVENT
DTSTAMP:20260423T190844Z
UID:6ac59a17-3e6f-4a84-ad54-266b6a01b78f
DTSTART;VALUE=DATE:20110804
DTEND;VALUE=DATE:20110804
DESCRIPTION:Reno Battleborn BMX
LOCATION:Sun Valley Gid Community Park 115 W 6th Ave Sun Valley NV 89433 US
 A
SUMMARY:Standard Single
URL:/site/bmx_races/107651
END:VEVENT
END:VCALENDAR
