BEGIN:VCALENDAR
VERSION:2.0
PRODID:icalendar-ruby
CALSCALE:GREGORIAN
METHOD:PUBLISH
BEGIN:VEVENT
DTSTAMP:20260423T004457Z
UID:fa704847-d569-49c4-8468-37990ffbd27c
DTSTART;VALUE=DATE:20111119
DTEND;VALUE=DATE:20111119
DESCRIPTION:Peachtree BMX
LOCATION:195 Mc Intosh Trail  Peachtree City GA 30269 USA
SUMMARY:Standard Single
URL:/site/bmx_races/108080
END:VEVENT
END:VCALENDAR
