BEGIN:VCALENDAR
VERSION:2.0
PRODID:icalendar-ruby
CALSCALE:GREGORIAN
METHOD:PUBLISH
BEGIN:VEVENT
DTSTAMP:20260424T102829Z
UID:e76d6144-25a9-401d-a772-c2952c7041a3
DTSTART;VALUE=DATE:20111008
DTEND;VALUE=DATE:20111008
DESCRIPTION:Eagle Park BMX
LOCATION:11800 N Horseshoe Bend Rd  Eagle ID 83616 USA
SUMMARY:Standard Single
URL:/site/bmx_races/108281
END:VEVENT
END:VCALENDAR
