BEGIN:VCALENDAR
VERSION:2.0
PRODID:icalendar-ruby
CALSCALE:GREGORIAN
METHOD:PUBLISH
BEGIN:VEVENT
DTSTAMP:20260425T124840Z
UID:561cf6b8-c77f-4470-a2cf-7de9d17bec25
DTSTART;VALUE=DATE:20110702
DTEND;VALUE=DATE:20110702
DESCRIPTION:Squamish BMX Racing Track
LOCATION:1009 Centennial Way  Squamish BC V0N1T0 CAN
SUMMARY:Standard Double
URL:/site/bmx_races/108778
END:VEVENT
END:VCALENDAR
