BEGIN:VCALENDAR
VERSION:2.0
PRODID:icalendar-ruby
CALSCALE:GREGORIAN
METHOD:PUBLISH
BEGIN:VEVENT
DTSTAMP:20260426T022826Z
UID:beb8cdb9-56d2-4947-bc45-9d394089335a
DTSTART;VALUE=DATE:20111014
DTEND;VALUE=DATE:20111014
DESCRIPTION:Elkhorn BMX
LOCATION:848 Elkhorn Blvd  Rio Linda CA 95673 USA
SUMMARY:Standard Single
URL:/site/bmx_races/108783
END:VEVENT
END:VCALENDAR
