BEGIN:VCALENDAR
VERSION:2.0
PRODID:icalendar-ruby
CALSCALE:GREGORIAN
METHOD:PUBLISH
BEGIN:VEVENT
DTSTAMP:20260421T215022Z
UID:1044d9d4-0f65-4c1c-a6b5-f01b458be331
DTSTART;VALUE=DATE:20110625
DTEND;VALUE=DATE:20110625
DESCRIPTION:Carson City BMX
LOCATION:1555 Livermore Ln  Carson City NV 89721 USA
SUMMARY:Standard Single
URL:/site/bmx_races/108967
END:VEVENT
END:VCALENDAR
