BEGIN:VCALENDAR
VERSION:2.0
PRODID:icalendar-ruby
CALSCALE:GREGORIAN
METHOD:PUBLISH
BEGIN:VEVENT
DTSTAMP:20260421T214850Z
UID:2c1306d6-27be-4047-970e-b7fbb7c2b010
DTSTART;VALUE=DATE:20110617
DTEND;VALUE=DATE:20110617
DESCRIPTION:Carson City BMX
LOCATION:1555 Livermore Ln  Carson City NV 89721 USA
SUMMARY:Standard Single
URL:/site/bmx_races/109083
END:VEVENT
END:VCALENDAR
