BEGIN:VCALENDAR
VERSION:2.0
PRODID:icalendar-ruby
CALSCALE:GREGORIAN
METHOD:PUBLISH
BEGIN:VEVENT
DTSTAMP:20260420T180005Z
UID:d8e59227-df0b-4a23-820b-a7cb38a2bfb1
DTSTART;VALUE=DATE:20110521
DTEND;VALUE=DATE:20110521
DESCRIPTION:Steel Wheels Indoor BMX
LOCATION:709 N Hobart Rd  Hobart IN 46350 USA
SUMMARY:Standard Single
URL:/site/bmx_races/110149
END:VEVENT
END:VCALENDAR
