BEGIN:VCALENDAR
VERSION:2.0
PRODID:icalendar-ruby
CALSCALE:GREGORIAN
METHOD:PUBLISH
BEGIN:VEVENT
DTSTAMP:20260425T202311Z
UID:acc7f495-3ff4-4676-954e-094f5258b7fd
DTSTART;VALUE=DATE:20110626
DTEND;VALUE=DATE:20110626
DESCRIPTION:Seatac BMX
LOCATION:1855 S 136th St  Sea Tac WA 98168 USA
SUMMARY:Standard Single
URL:/site/bmx_races/110294
END:VEVENT
END:VCALENDAR
