BEGIN:VCALENDAR
VERSION:2.0
PRODID:icalendar-ruby
CALSCALE:GREGORIAN
METHOD:PUBLISH
BEGIN:VEVENT
DTSTAMP:20260423T172802Z
UID:7bac3b97-6afd-434f-9202-01e856e2f7a5
DTSTART;VALUE=DATE:20110504
DTEND;VALUE=DATE:20110504
DESCRIPTION:Colorado River BMX
LOCATION:2230 Highland Dr  Bullhead City AZ 86442 USA
SUMMARY:Standard Single
URL:/site/bmx_races/110357
END:VEVENT
END:VCALENDAR
