BEGIN:VCALENDAR
VERSION:2.0
PRODID:icalendar-ruby
CALSCALE:GREGORIAN
METHOD:PUBLISH
BEGIN:VEVENT
DTSTAMP:20260425T143258Z
UID:7baaf5e9-216f-46d1-bbfe-7a5b84de40e0
DTSTART;VALUE=DATE:20100607
DTEND;VALUE=DATE:20100607
DESCRIPTION:Fastrax BMX
LOCATION:2800 S 12th St  Bismarck ND 58504 USA
SUMMARY:Standard Single
URL:/site/bmx_races/111723
END:VEVENT
END:VCALENDAR
