BEGIN:VCALENDAR
VERSION:2.0
PRODID:icalendar-ruby
CALSCALE:GREGORIAN
METHOD:PUBLISH
BEGIN:VEVENT
DTSTAMP:20260421T165835Z
UID:ff55b338-6229-4d96-8942-908a151a37a6
DTSTART;VALUE=DATE:20100318
DTEND;VALUE=DATE:20100318
DESCRIPTION:Steel Wheels Indoor BMX
LOCATION:709 N Hobart Rd  Hobart IN 46350 USA
SUMMARY:Standard Single
URL:/site/bmx_races/112062
END:VEVENT
END:VCALENDAR
