BEGIN:VCALENDAR
VERSION:2.0
PRODID:icalendar-ruby
CALSCALE:GREGORIAN
METHOD:PUBLISH
BEGIN:VEVENT
DTSTAMP:20260424T142730Z
UID:bff7ebcc-d868-4a59-8059-07d7eb7bc3b8
DTSTART;VALUE=DATE:20100305
DTEND;VALUE=DATE:20100305
DESCRIPTION:Colorado River BMX
LOCATION:2230 Highland Dr  Bullhead City AZ 86442 USA
SUMMARY:Standard Single
URL:/site/bmx_races/112104
END:VEVENT
END:VCALENDAR
