BEGIN:VCALENDAR
VERSION:2.0
PRODID:icalendar-ruby
CALSCALE:GREGORIAN
METHOD:PUBLISH
BEGIN:VEVENT
DTSTAMP:20260424T161119Z
UID:4be4a0b8-5a0c-40d0-a57a-73e8bcfb4cdb
DTSTART;VALUE=DATE:20100224
DTEND;VALUE=DATE:20100224
DESCRIPTION:Colorado River BMX
LOCATION:2230 Highland Dr  Bullhead City AZ 86442 USA
SUMMARY:Standard Single
URL:/site/bmx_races/112403
END:VEVENT
END:VCALENDAR
