BEGIN:VCALENDAR
VERSION:2.0
PRODID:icalendar-ruby
CALSCALE:GREGORIAN
METHOD:PUBLISH
BEGIN:VEVENT
DTSTAMP:20260419T153140Z
UID:e9646e2a-c6c2-47db-a8d6-fb760a61a3c8
DTSTART;VALUE=DATE:20100808
DTEND;VALUE=DATE:20100808
DESCRIPTION:Pineview Park BMX
LOCATION:6540 Saukview Dr  St. Cloud MN 56303 USA
SUMMARY:Standard Triple
URL:/site/bmx_races/112714
END:VEVENT
END:VCALENDAR
