BEGIN:VCALENDAR
VERSION:2.0
PRODID:icalendar-ruby
CALSCALE:GREGORIAN
METHOD:PUBLISH
BEGIN:VEVENT
DTSTAMP:20260420T211836Z
UID:1fa7ec71-b52d-4eee-9b64-9fa21de24da2
DTSTART;VALUE=DATE:20100626
DTEND;VALUE=DATE:20100626
DESCRIPTION:Emerald Valley BMX
LOCATION:2715 Leo Harris Pkwy  Eugene OR 97402 USA
SUMMARY:Standard Single
URL:/site/bmx_races/113117
END:VEVENT
END:VCALENDAR
