BEGIN:VCALENDAR
VERSION:2.0
PRODID:icalendar-ruby
CALSCALE:GREGORIAN
METHOD:PUBLISH
BEGIN:VEVENT
DTSTAMP:20260424T161223Z
UID:55336659-2d4e-4f8a-b190-bb0888376c25
DTSTART;VALUE=DATE:20100724
DTEND;VALUE=DATE:20100724
DESCRIPTION:Reno Battleborn BMX
LOCATION:Sun Valley Gid Community Park 115 W 6th Ave Sun Valley NV 89433 US
 A
SUMMARY:Standard Single
URL:/site/bmx_races/113532
END:VEVENT
END:VCALENDAR
