BEGIN:VCALENDAR
VERSION:2.0
PRODID:icalendar-ruby
CALSCALE:GREGORIAN
METHOD:PUBLISH
BEGIN:VEVENT
DTSTAMP:20260423T133015Z
UID:b534a4b0-08a3-4b95-bd82-c39340e4110e
DTSTART;VALUE=DATE:20100731
DTEND;VALUE=DATE:20100731
DESCRIPTION:Bigfoot BMX
LOCATION:600 128th St Se  Everett WA 98201 USA
SUMMARY:Standard Double
URL:/site/bmx_races/113554
END:VEVENT
END:VCALENDAR
