BEGIN:VCALENDAR
VERSION:2.0
PRODID:icalendar-ruby
CALSCALE:GREGORIAN
METHOD:PUBLISH
BEGIN:VEVENT
DTSTAMP:20260425T104120Z
UID:dfeac4f7-6ee7-4a20-bd73-d50b87226c0a
DTSTART;VALUE=DATE:20100323
DTEND;VALUE=DATE:20100323
DESCRIPTION:Apple Valley BMX Moto Park
LOCATION:24320 Highway 18  Apple Valley CA 92307 USA
SUMMARY:Standard Single
URL:/site/bmx_races/113752
END:VEVENT
END:VCALENDAR
